BEGIN:VCALENDAR
VERSION:2.0
PRODID:-//Campaign Opposing Police Surveillance - ECPv4.7.4//NONSGML v1.0//EN
CALSCALE:GREGORIAN
METHOD:PUBLISH
X-WR-CALNAME:Campaign Opposing Police Surveillance
X-ORIGINAL-URL:http://campaignopposingpolicesurveillance.com
X-WR-CALDESC:Events for Campaign Opposing Police Surveillance
BEGIN:VEVENT
DTSTART;TZID=UTC+0:20160322T090000
DTEND;TZID=UTC+0:20160322T100000
DTSTAMP:20211128T114248
CREATED:20160229T104318Z
LAST-MODIFIED:20160229T104318Z
UID:1059-1458637200-1458640800@campaignopposingpolicesurveillance.com
SUMMARY:High Court Demo - Release the Names\, Open the Files
DESCRIPTION:The Pitchford Inquiry into undercover policing is going to make a ruling on disclosure of evidence and protection of identity. \nThe police  – supported by the Home Office and Cabinet Office – have said they want to have large parts of this “public” inquiry held in secret and intend to use their “Neither Confirm Nor Deny” approach. \nThis has been a tool they have used to obstruct the fight for truth from women who were deceived into relationships by undercover officers. They only invented this hardline policy six months after the women launched their legal case. \nIt is the police characteristically failing to admit wrongdoing\, let alone sanction those who did it. It results in the absurdity of police refusing to confirm whether people like Mark Kennedy and Bob Lambert were ever undercover officers. \nWe only have details on 14 officers from Britain’s political secret police – 90% of them are still unknown. The only way we will know what those officers did is if the people they spied on tell their stories and\, in turn\, the only way for that to happen is if they are told they were targeted. \nThe inquiry cannot be credible if it hides 90% of the truth. It must release the names of officers. Those who were spied on should see their files to discover what took place and why\, rather than take the word of the liars who abused them. \nThe inquiry has designated 179 people targeted by the 14 known officers as ‘core participants’\, and 133 of them have called for the release of the officers’ cover names. For many\, this issue is the test of whether the Inquiry is serious or a whitewash. \nThere will be a demonstration outside the High Court at 9am on Tuesday 22nd March\, ahead of the first day of the Pitchford Inquiry’s hearing. Let’s make it clear; without truth there cannot be justice. \nShare this:FacebookTwitterTumblrEmailMoreLinkedInRedditPinterestPocketPrint
URL:http://campaignopposingpolicesurveillance.com/event/high-court-demo-release-the-names-open-the-files/
LOCATION:Royal Courts of Justice\, Strand\, London\, WC2A 2LL\, United Kingdom
END:VEVENT
BEGIN:VEVENT
DTSTART;TZID=UTC+0:20160322T100000
DTEND;TZID=UTC+0:20160323T160000
DTSTAMP:20211128T114248
CREATED:20151013T003522Z
LAST-MODIFIED:20160229T101741Z
UID:714-1458640800-1458748800@campaignopposingpolicesurveillance.com
SUMMARY:Pitchford Inquiry fifth preliminary hearing
DESCRIPTION:A fifth preliminary hearing will consider the legal approach to be taken in relation to applications for restriction orders under section 19 of the Inquiries Act 2005\, including\, for example\, applications for measures to protect identity and applications for restrictions on the disclosure and publication of evidence. \nThis hearing will take place in court 73 of the Royal Courts of Justice on 22 and 23 March 2016. \nThese hearings are preliminary; evidence hearings are not expected to take place before the summer of 2016. \nFor more information on core participation and how to engage with the Inquiry please see the Inquiry’s Frequently Asked Questions page. \nAll hearings will take place at the Royal Courts of Justice\, The Strand\, London WC2A 2LL. \nGeneral Information about the Royal Courts of Justice \nThose attending the Inquiry should note that the Royal Courts of Justice conduct security checks and maintain the following restrictions: \n\nCamera and recording equipment are strictly prohibited and should not be brought into the Royal Courts of Justice.\n\nMobile phones and Blackberry devices must be switched off or switched to ‘silent’. \n\n\nTelephone calls are not permitted in either hearing room when the Inquiry is in session. Telephone calls may be made in the hearing rooms during breaks in proceedings but must conclude before the hearing resumes. To make calls during the hearing attendees must leave the hearing room. \n\nText-based media is allowed in the Inquiry hearing rooms and public areas of the Royal Courts of Justice. However\, they must not cause a disturbance or distraction to proceedings and are subject to the Chairman’s right to remove that privilege if he believes it is harming the administration of justice; further\, no transmission of any statement made during the course of a hearing may be made until a period of 60 seconds has elapsed after the statement is made.\n\nLaptops may be used in the Inquiry hearing rooms and public areas if they do not disturb others but they may not be used to make live recordings of proceedings. Laptops must be battery-powered as power sockets are not available. \n\n\nPersonal entertainment devices such as MP3 players and iPods may not be used in either hearing room when the Inquiry hearing is in session. \n\n\nThe Inquiry Secretariat reserves the right to eject (and if necessary to review the accreditation of) individuals who fail to comply with these conditions. \n\nParking is not available within the Royal Courts of Justice and parking outside the court is extremely limited.\n\nShare this:FacebookTwitterTumblrEmailMoreLinkedInRedditPinterestPocketPrint
URL:http://campaignopposingpolicesurveillance.com/event/pitchford-inquiry-fifth-preliminary-hearing-2/
LOCATION:Royal Courts of Justice\, Strand\, London\, WC2A 2LL\, United Kingdom
END:VEVENT
END:VCALENDAR