BEGIN:VCALENDAR
VERSION:2.0
PRODID:-//Campaign Opposing Police Surveillance - ECPv4.7.4//NONSGML v1.0//EN
CALSCALE:GREGORIAN
METHOD:PUBLISH
X-WR-CALNAME:Campaign Opposing Police Surveillance
X-ORIGINAL-URL:http://campaignopposingpolicesurveillance.com
X-WR-CALDESC:Events for Campaign Opposing Police Surveillance
BEGIN:VEVENT
DTSTART;TZID=UTC+0:20150915T073000
DTEND;TZID=UTC+0:20150915T210000
DTSTAMP:20211128T115826
CREATED:20150914T193009Z
LAST-MODIFIED:20150914T205558Z
UID:685-1442302200-1442350800@campaignopposingpolicesurveillance.com
SUMMARY:Rob Evans: Undercover talk\, London
DESCRIPTION:\nAmnesty International – Hammersmith and Fulham Group is pleased to announce a public talk with Rob Evans\, journalist with the Guardian newspaper since 1999. He will be speaking about his book\, Undercover: The True Story of Britain’s Secret Police \nUndercover reveals the truth about secret police operations – the emotional turmoil\, the psychological challenges and the human cost of a lifetime of deception – and asks whether such tactics can ever be justified. \nRob Evans and Paul Lewis have written a book that reveals gripping stories of a group of police spies and the uncovering of forty years of state espionage. This was an undercover operation so secret that some of our most senior police officers had no idea it existed. The job of the clandestine unit was to monitor British ‘subversives’ – environmental activists\, anti-racist groups\, animal rights campaigners. \nPolice stole the identities of dead people to create fake passports\, driving licences and bank accounts. They then went deep undercover for years\, inventing whole new lives so that they could live incognito among the people they were spying on. \nThey used sex\, intimate relationships and drugs to build their credibility. They betrayed friends\, deceived lovers\, even fathered children. And their operations continue today. \nThe book is now available direct from the publisher for £6.99 \n\nShare this:FacebookTwitterTumblrEmailMoreLinkedInRedditPinterestPocketPrint
URL:http://campaignopposingpolicesurveillance.com/event/rob-evans-undercover-talk/
LOCATION:Latymer Upper School\, King Street\, London\, W6 9LR
END:VEVENT
BEGIN:VEVENT
DTSTART;TZID=UTC+0:20150915T174500
DTEND;TZID=UTC+0:20150915T191500
DTSTAMP:20211128T115826
CREATED:20150901T235022Z
LAST-MODIFIED:20150901T235022Z
UID:675-1442339100-1442344500@campaignopposingpolicesurveillance.com
SUMMARY:Spycops TUC Fringe Meeting\, Brighton
DESCRIPTION:Spycops – Undercover Police Spying on Trade Unionists and Campaigners: The Need for Full Disclosure \nDelegates to the TUC Congress have the chance to hear an impressive panel of people deeply invovled in the campaign for justice for people targeted by politcal undercover police. \nThe Fire Brigades Union – themselves known to be targeted by the Special Demonstration Squad – have organised a fringe meeting. \nOn the panel will be: \nMatt Wrack\, FBU general secretary \nDave Smith\, Blacklist Support Group & author of Blacklisted \nHelen Steel\, Police Spies Out of Lives \nShamik Dutta\, Bhatt Murphy solicitors representing a range of affected activists \nJohn McDonnell\, MP who has been vociferous on the issue \nShare this:FacebookTwitterTumblrEmailMoreLinkedInRedditPinterestPocketPrint
URL:http://campaignopposingpolicesurveillance.com/event/spycops-tuc-fringe-meeting-brighton/
LOCATION:Room 1a\, Brighton Conference Centre\, Kings Road\, Brighton\, BN1 2GR
END:VEVENT
END:VCALENDAR